BEGIN:VCALENDAR
VERSION:2.0
PRODID:-//hacksw/handcal//NONSGML v1.0//EN
CALSCALE:GREGORIAN
BEGIN:VEVENT
ORGANIZER;CN=Carriage Services, Inc.:MAILTO:no-reply@mail.gcs-web.com
DTEND:
UID:bfb20653-4550-4163-b867-bac511bc542d
DTSTAMP:1777129019
LOCATION:https://myconferencinghub.com/click-to-join/5549353
DESCRIPTION:Event Details https://investors.carriageservices.com/events/event-details/carriage-services-1q-2026-earnings-webcast\n\nWebcast: https://myconferencinghub.com/click-to-join/5549353
URL;VALUE=URI:https://myconferencinghub.com/click-to-join/5549353
SUMMARY:Carriage Services, Inc. - Carriage Services 1Q 2026 Earnings Webcast
DTSTART:20260507T130000Z
END:VEVENT
END:VCALENDAR